BEGIN:VCALENDAR
VERSION:2.0
PRODID:spatie/icalendar-generator
NAME:RCCG St Anns
X-WR-CALNAME:RCCG St Anns
DESCRIPTION:Events for RCCG St Anns
X-WR-CALDESC:Events for RCCG St Anns
BEGIN:VEVENT
UID:641-1778401800-1778412600@rccgstanns.org
SUMMARY:Sunday Worship Service
DESCRIPTION:Join us for our weekly worship service featuring praise\, praye
 r\, and teaching.
URL:https://rccgstanns.org/event/sunday-worship-service-10-may-2026/
DTSTART;TZID=Europe/London:20260510T093000
DTEND;TZID=Europe/London:20260510T123000
DTSTAMP;TZID=UTC:20260420T120657
END:VEVENT
END:VCALENDAR